BEGIN:VCALENDAR
VERSION:2.0
PRODID:-//ChamberMaster//Event Calendar 2.0//EN
METHOD:PUBLISH
X-PUBLISHED-TTL:P1H
REFRESH-INTERVAL:P1H
CALSCALE:GREGORIAN
BEGIN:VTIMEZONE
TZID:America/New_York
BEGIN:DAYLIGHT
RRULE:FREQ=YEARLY;BYMONTH=3;BYDAY=2SU
DTSTART:20070101T000000
TZOFFSETFROM:-0500
TZOFFSETTO:-0400
TZNAME:Eastern Daylight Time
END:DAYLIGHT
BEGIN:STANDARD
RRULE:FREQ=YEARLY;BYMONTH=11;BYDAY=1SU
DTSTART:20070101T000000
TZOFFSETFROM:-0400
TZOFFSETTO:-0500
TZNAME:Eastern Standard Time
END:STANDARD
END:VTIMEZONE
BEGIN:VEVENT
DTSTART;TZID=America/New_York:20260421T183000
DTEND;TZID=America/New_York:20260421T200000
X-MICROSOFT-CDO-ALLDAYEVENT:FALSE
SUMMARY:BCSC Public Information session
DESCRIPTION:BCSC is hosting a series of public information sessions on upcoming redistricting plans tied to the new Maple Grove Elementary\, set to open in August 2027. These sessions will walk through current school boundaries\, enrollment trends\, and the process and timeline for redistricting\, including potential changes that may impact our community.\n\nThis is valuable information for REALTORS® working with buyers and sellers in the area\, as school boundaries can play an important role in home decisions.\n\nAttend the next session on April 21st. More information available at: https://bcscenvision2030.org/redistricting
X-ALT-DESC;FMTTYPE=text/html:BCSC is hosting a series of public information sessions on upcoming redistricting plans tied to the new Maple Grove Elementary\, set to open in August 2027. These sessions will walk through current school boundaries\, enrollment trends\, and the process and timeline for redistricting\, including potential changes that may impact our community.\n\nThis is valuable information for REALTORS® working with buyers and sellers in the area\, as school boundaries can play an important role in home decisions.\n\nAttend the next session on April 21st. More information available at: https://bcscenvision2030.org/redistricting
LOCATION:124 Tipton lakes Blvd Columbus
UID:e.4522.1445495
SEQUENCE:3
DTSTAMP:20260425T162329Z
URL:https://members.crossroadsrealtors.org/eventcalendar/Details/bcsc-public-information-session-1712118?sourceTypeId=Hub
END:VEVENT
END:VCALENDAR
