BEGIN:VCALENDAR
VERSION:2.0
PRODID:-//ChamberMaster//Event Calendar 2.0//EN
METHOD:PUBLISH
X-PUBLISHED-TTL:P1H
REFRESH-INTERVAL:P1H
CALSCALE:GREGORIAN
BEGIN:VTIMEZONE
TZID:America/New_York
BEGIN:DAYLIGHT
RRULE:FREQ=YEARLY;BYMONTH=3;BYDAY=2SU
DTSTART:20070101T000000
TZOFFSETFROM:-0500
TZOFFSETTO:-0400
TZNAME:Eastern Daylight Time
END:DAYLIGHT
BEGIN:STANDARD
RRULE:FREQ=YEARLY;BYMONTH=11;BYDAY=1SU
DTSTART:20070101T000000
TZOFFSETFROM:-0400
TZOFFSETTO:-0500
TZNAME:Eastern Standard Time
END:STANDARD
END:VTIMEZONE
BEGIN:VEVENT
DTSTART;TZID=America/New_York:20260507T100000
DTEND;TZID=America/New_York:20260507T120000
X-MICROSOFT-CDO-ALLDAYEVENT:FALSE
SUMMARY:Adopt-A-Road Spring Clean-Up
DESCRIPTION:Hello!\nThe Bartholomew County Outreach Committee is excited to invite you to join the Crossroads Association of REALTORS® for our Adopt-A-Road Spring Clean-Up on Thursday\, May 7th from 10:00 AM – 12:00 PM along Merchant Mile in Columbus.\nWe’ll meet at the Menards parking lot on Merchant Mile\, where volunteers will receive a map\, safety vest\, gloves\, and trash bags before heading out.\nThis is a great opportunity to give back to our community\, connect with fellow members\, and make a visible impact together. As a small thank-you\, the first 20 volunteers will receive a $5 Starbucks gift card.\nPlease see the attached flyer for full details and feel free to share with your office or team!\n👉 Sign up at:\n\nhttps://bit.ly/AdoptaRoadMay2026\n\n\nWe can't wait to see you there!
X-ALT-DESC;FMTTYPE=text/html:Hello!\nThe Bartholomew County Outreach Committee is excited to invite you to join the Crossroads Association of REALTORS® for our Adopt-A-Road Spring Clean-Up on Thursday\, May 7th from 10:00 AM – 12:00 PM along Merchant Mile in Columbus.\nWe’ll meet at the Menards parking lot on Merchant Mile\, where volunteers will receive a map\, safety vest\, gloves\, and trash bags before heading out.\nThis is a great opportunity to give back to our community\, connect with fellow members\, and make a visible impact together. As a small thank-you\, the first 20 volunteers will receive a $5 Starbucks gift card.\nPlease see the attached flyer for full details and feel free to share with your office or team!\n👉 Sign up at:\n\nhttps://bit.ly/AdoptaRoadMay2026\n\n\nWe can't wait to see you there!
LOCATION:2315 Merchant Mile Columbus 47201
UID:e.4522.1445201
SEQUENCE:3
DTSTAMP:20260425T162004Z
URL:https://members.crossroadsrealtors.org/eventcalendar/Details/adopt-a-road-spring-clean-up-1711708?sourceTypeId=Hub
END:VEVENT
END:VCALENDAR
